BEGIN:VCALENDAR
VERSION:2.0
PRODID:-//IDC WIN BIG | Business Innovation and Growth - ECPv5.7.1//NONSGML v1.0//EN
CALSCALE:GREGORIAN
METHOD:PUBLISH
X-WR-CALNAME:IDC WIN BIG | Business Innovation and Growth
X-ORIGINAL-URL:https://idcwinbig.ca
X-WR-CALDESC:Events for IDC WIN BIG | Business Innovation and Growth
BEGIN:VTIMEZONE
TZID:America/Toronto
BEGIN:DAYLIGHT
TZOFFSETFROM:-0500
TZOFFSETTO:-0400
TZNAME:EDT
DTSTART:20240310T070000
END:DAYLIGHT
BEGIN:STANDARD
TZOFFSETFROM:-0400
TZOFFSETTO:-0500
TZNAME:EST
DTSTART:20241103T060000
END:STANDARD
END:VTIMEZONE
BEGIN:VEVENT
DTSTART;TZID=America/Toronto:20241211T130000
DTEND;TZID=America/Toronto:20241211T140000
DTSTAMP:20260422T164021
CREATED:20241203T202946Z
LAST-MODIFIED:20241203T202946Z
UID:7391-1733922000-1733925600@idcwinbig.ca
SUMMARY:Beneva - Ease of doing business with Beneva – Top 10 reasons
DESCRIPTION:CLICK HERE TO REGISTER\nJoin us for an insightful webinar where we delve into what sets Beneva apart in the insurance landscape. Discover our imbedded product features that make us unique. In this session\, we will showcase our sweet spots—key underwriting strengths that differentiate us from competitors. Don’t miss the opportunity to see why choosing Beneva means choosing a partner dedicated to your success. Register now to secure your spot! \nNO CE CREDITS \nNOT IDC WIN HOSTED
URL:https://idcwinbig.ca/event/beneva-ease-of-doing-business-with-beneva-top-10-reasons/
CATEGORIES:Webinar
END:VEVENT
END:VCALENDAR