BEGIN:VCALENDAR
VERSION:2.0
PRODID:-//IDC WIN BIG | Business Innovation and Growth - ECPv5.7.1//NONSGML v1.0//EN
CALSCALE:GREGORIAN
METHOD:PUBLISH
X-WR-CALNAME:IDC WIN BIG | Business Innovation and Growth
X-ORIGINAL-URL:https://idcwinbig.ca
X-WR-CALDESC:Events for IDC WIN BIG | Business Innovation and Growth
BEGIN:VTIMEZONE
TZID:America/Toronto
BEGIN:DAYLIGHT
TZOFFSETFROM:-0500
TZOFFSETTO:-0400
TZNAME:EDT
DTSTART:20240310T070000
END:DAYLIGHT
BEGIN:STANDARD
TZOFFSETFROM:-0400
TZOFFSETTO:-0500
TZNAME:EST
DTSTART:20241103T060000
END:STANDARD
END:VTIMEZONE
BEGIN:VEVENT
DTSTART;TZID=America/Toronto:20241212T150000
DTEND;TZID=America/Toronto:20241212T160000
DTSTAMP:20260422T164023
CREATED:20241210T214845Z
LAST-MODIFIED:20241210T214845Z
UID:7397-1734015600-1734019200@idcwinbig.ca
SUMMARY:ivari - A year in review with your Advisor Experience team
DESCRIPTION:CLICK HERE TO REGISTER\nJoin us for the final ivari presents of 2024! In this special webinar\, we will take a look back at the past year with your Advisor Experience team and discuss everything you need to know to prepare for a successful 2025. Don’t miss this opportunity to gain valuable insights and prepare for the year ahead. \nNO CE CREDITS \nNOT IDC WIN HOSTED
URL:https://idcwinbig.ca/event/ivari-a-year-in-review-with-your-advisor-experience-team/
CATEGORIES:Webinar
END:VEVENT
END:VCALENDAR