BEGIN:VCALENDAR
VERSION:2.0
PRODID:-//IDC WIN BIG | Business Innovation and Growth - ECPv5.7.1//NONSGML v1.0//EN
CALSCALE:GREGORIAN
METHOD:PUBLISH
X-WR-CALNAME:IDC WIN BIG | Business Innovation and Growth
X-ORIGINAL-URL:https://idcwinbig.ca
X-WR-CALDESC:Events for IDC WIN BIG | Business Innovation and Growth
BEGIN:VTIMEZONE
TZID:America/Toronto
BEGIN:DAYLIGHT
TZOFFSETFROM:-0500
TZOFFSETTO:-0400
TZNAME:EDT
DTSTART:20250309T070000
END:DAYLIGHT
BEGIN:STANDARD
TZOFFSETFROM:-0400
TZOFFSETTO:-0500
TZNAME:EST
DTSTART:20251102T060000
END:STANDARD
END:VTIMEZONE
BEGIN:VEVENT
DTSTART;TZID=America/Toronto:20250122T113000
DTEND;TZID=America/Toronto:20250123T163000
DTSTAMP:20260422T145459
CREATED:20250121T204746Z
LAST-MODIFIED:20250121T204746Z
UID:7428-1737545400-1737649800@idcwinbig.ca
SUMMARY:IDC WIN LAUNCH 2025 - 2 DAY VIRTUAL EVENT
DESCRIPTION:REGISTER NOW\nJoin us for IDC WIN’s Launch 2025 – Focused on what matters to you! \nDive into a dynamic program featuring sessions on recent advancements affecting the insurance industry\, such as new AI tools\, developments in underwriting and strategies for transforming group benefits. \nGarner insights that are tailored to your business goals as you join our keynote sessions with professional speaker\, Thomas Deans\, author of The Happy Inheritor and founder of the Willing Wisdom IndexTM\, as well as\, Karen Cutler\, Head of Underwriting and Claims\, Chief Underwriter Individual Insurance at Manulife. \nDon’t miss this opportunity to strengthen your path to success in 2025! \nFor a full list of speakers and sessions\, please visit our event agenda. \nWe know that Continuing Education (CE) and Professional Development Units (PDU) are important to you\, not all sessions will qualify for credits. Each day is being accredited as a whole\, not per session\, therefore\, you must attend the full day to obtain credits.
URL:https://idcwinbig.ca/event/idc-win-launch-2025-2-day-virtual-event/
CATEGORIES:Webinar
END:VEVENT
END:VCALENDAR