BEGIN:VCALENDAR
VERSION:2.0
PRODID:-//IDC WIN BIG | Business Innovation and Growth - ECPv5.7.1//NONSGML v1.0//EN
CALSCALE:GREGORIAN
METHOD:PUBLISH
X-WR-CALNAME:IDC WIN BIG | Business Innovation and Growth
X-ORIGINAL-URL:https://idcwinbig.ca
X-WR-CALDESC:Events for IDC WIN BIG | Business Innovation and Growth
BEGIN:VTIMEZONE
TZID:America/Toronto
BEGIN:DAYLIGHT
TZOFFSETFROM:-0500
TZOFFSETTO:-0400
TZNAME:EDT
DTSTART:20250309T070000
END:DAYLIGHT
BEGIN:STANDARD
TZOFFSETFROM:-0400
TZOFFSETTO:-0500
TZNAME:EST
DTSTART:20251102T060000
END:STANDARD
END:VTIMEZONE
BEGIN:VEVENT
DTSTART;TZID=America/Toronto:20250408T130000
DTEND;TZID=America/Toronto:20250408T143000
DTSTAMP:20260422T101527
CREATED:20250401T203505Z
LAST-MODIFIED:20250401T203548Z
UID:7552-1744117200-1744122600@idcwinbig.ca
SUMMARY:Desjardins - Flexibility for your client: Additional Deposit Option
DESCRIPTION:CLICK HERE TO REGISTER\nJoin us for this exclusive webinar introducing Desjardins Insurance’s Additional Deposit Option (ADO)\, where we’ll highlight its value and flexibility. \nIn this session\, hosts Brent Swatuk\, Reh Bhanji\, and David Lee will share their insights and market experience with the Additional Deposit Option—and how this feature can benefit your clients. \nAdvisors will gain valuable insights into why Desjardins Insurance is not only a trusted insurer but also part of the largest financial cooperative group in North America. Viewers will also explore Desjardins’ cooperative values\, market strength\, and Participating Life investment strategy. Additionally\, you’ll discover opportunities where the Additional Deposit Option can be effectively used\, along with the support systems available to assist you. \nCE Accreditation: This webinar is currently awaiting accreditation Once approved it will allow you to obtain 1 CE credit. \nTHIS WEBINAR IS NOT IDC WIN HOSTED
URL:https://idcwinbig.ca/event/desjardins-flexibility-for-your-client-additional-deposit-option/
CATEGORIES:Webinar
END:VEVENT
END:VCALENDAR