BEGIN:VCALENDAR
VERSION:2.0
PRODID:-//IDC WIN BIG | Business Innovation and Growth - ECPv5.7.1//NONSGML v1.0//EN
CALSCALE:GREGORIAN
METHOD:PUBLISH
X-WR-CALNAME:IDC WIN BIG | Business Innovation and Growth
X-ORIGINAL-URL:https://idcwinbig.ca
X-WR-CALDESC:Events for IDC WIN BIG | Business Innovation and Growth
BEGIN:VTIMEZONE
TZID:America/Toronto
BEGIN:DAYLIGHT
TZOFFSETFROM:-0500
TZOFFSETTO:-0400
TZNAME:EDT
DTSTART:20250309T070000
END:DAYLIGHT
BEGIN:STANDARD
TZOFFSETFROM:-0400
TZOFFSETTO:-0500
TZNAME:EST
DTSTART:20251102T060000
END:STANDARD
END:VTIMEZONE
BEGIN:VEVENT
DTSTART;TZID=America/Toronto:20250422T081500
DTEND;TZID=America/Toronto:20250422T150000
DTSTAMP:20260422T101524
CREATED:20250310T202037Z
LAST-MODIFIED:20250310T202037Z
UID:7501-1745309700-1745334000@idcwinbig.ca
SUMMARY:IDC WIN - Spring Education Days 2025 - Mississauga
DESCRIPTION:CLICK HERE TO VIEW LANDING PAGE\, AGENDAS AND REGISTRATION\nDrive deeper connections \nIt’s time to focus on Conversations that matter at IDC WIN’s Spring Education Days 2025. Relationships are at the heart of our industry\, and meaningful conversations are the building blocks of those relationships. \nJoin us as we explore how different solutions and strategies can help you facilitate valuable conversations that create meaningful  engagement\, drive deeper connections and enhance your client outcomes. \nMississauga Convention Centre\n75 Derry Road West\, Mississauga\, Ontario
URL:https://idcwinbig.ca/event/idc-win-spring-education-days-2025-mississauga/
LOCATION:Mississauga Convention Centre\, 75 Derry Road West\, Mississauga\, Ontario\, L5W 1N5\, Canada
CATEGORIES:Event
END:VEVENT
BEGIN:VEVENT
DTSTART;TZID=America/Toronto:20250422T130000
DTEND;TZID=America/Toronto:20250422T140000
DTSTAMP:20260422T101524
CREATED:20250408T194134Z
LAST-MODIFIED:20250408T194444Z
UID:7564-1745326800-1745330400@idcwinbig.ca
SUMMARY:Desjardins - Discovery Series Webcast- Limitless Potential: Actuarial Strategies for Par Life Growth
DESCRIPTION:CLICK HERE TO REGISTER\nWebcast Summary (Pre-recorded)\nJoin Nitin Bansal for an eye-opening session that goes beyond numbers and charts to reveal the true potential of Participating Whole Life Insurance. In Limitless Potential: Actuarial Strategies for Par Life Growth\, Nitin simplifies complex actuarial concepts and provides advisors with practical tools to help clients maximize the growth and efficiency of their par life policies. \nDrawing from his personal journey and professional expertise\, Nitin will explore how actuarial science can be applied to create tax-efficient solutions\, overcome client objections\, and build long-term value for corporate business owners. This session will cover everything from Additional Deposit Options to leveraging Desjardins’ $25 million internal capacity for optimized client outcomes. \nCE Certification: CE credits are available. \nTo qualify\, you must attend at least 90% of the session and pass a quiz (60% or higher). You will be able to download your certification right away\, should you meet the qualifying criteria. \n\nIAFE/Advocis/ICS: 1.0 until Jan 8\, 2027\nICM: 1.0 until Jan 8\, 2027\nAIC: 1.0 until Jan 8\, 2027 (Life Insurance)\nMFDA: 1.0 until Jan 8\, 2027
URL:https://idcwinbig.ca/event/desjardins-discovery-series-limitless-potential-actuarial-strategies-for-par-life-growth/
CATEGORIES:Webinar
END:VEVENT
END:VCALENDAR