BEGIN:VCALENDAR
VERSION:2.0
PRODID:-//IDC WIN BIG | Business Innovation and Growth - ECPv5.7.1//NONSGML v1.0//EN
CALSCALE:GREGORIAN
METHOD:PUBLISH
X-WR-CALNAME:IDC WIN BIG | Business Innovation and Growth
X-ORIGINAL-URL:https://idcwinbig.ca
X-WR-CALDESC:Events for IDC WIN BIG | Business Innovation and Growth
BEGIN:VTIMEZONE
TZID:America/Toronto
BEGIN:DAYLIGHT
TZOFFSETFROM:-0500
TZOFFSETTO:-0400
TZNAME:EDT
DTSTART:20250309T070000
END:DAYLIGHT
BEGIN:STANDARD
TZOFFSETFROM:-0400
TZOFFSETTO:-0500
TZNAME:EST
DTSTART:20251102T060000
END:STANDARD
END:VTIMEZONE
BEGIN:VEVENT
DTSTART;TZID=America/Toronto:20250428T081500
DTEND;TZID=America/Toronto:20250428T150000
DTSTAMP:20260422T083747
CREATED:20250310T202635Z
LAST-MODIFIED:20250310T202635Z
UID:7520-1745828100-1745852400@idcwinbig.ca
SUMMARY:IDC WIN - Spring Education Days 2025 - Edmonton
DESCRIPTION:CLICK HERE TO VIEW LANDING PAGE\, AGENDAS AND REGISTRATION\nDrive deeper connections \nIt’s time to focus on Conversations that matter at IDC WIN’s Spring Education Days 2025. Relationships are at the heart of our industry\, and meaningful conversations are the building blocks of those relationships. \nJoin us as we explore how different solutions and strategies can help you facilitate valuable conversations that create meaningful  engagement\, drive deeper connections and enhance your client outcomes. \nThe Royal Glenora\n11160 River Valley Road NW\, Edmonton\, Alberta
URL:https://idcwinbig.ca/event/idc-win-spring-education-days-2025-edmonton/
LOCATION:The Royal Glenora\, 11160 River Valley Road NW\, Edmonton\, Alberta\, T5J 2G7\, Canada
CATEGORIES:Event
END:VEVENT
END:VCALENDAR