BEGIN:VCALENDAR
VERSION:2.0
PRODID:-//IDC WIN BIG | Business Innovation and Growth - ECPv5.7.1//NONSGML v1.0//EN
CALSCALE:GREGORIAN
METHOD:PUBLISH
X-WR-CALNAME:IDC WIN BIG | Business Innovation and Growth
X-ORIGINAL-URL:https://idcwinbig.ca
X-WR-CALDESC:Events for IDC WIN BIG | Business Innovation and Growth
BEGIN:VTIMEZONE
TZID:America/Toronto
BEGIN:DAYLIGHT
TZOFFSETFROM:-0500
TZOFFSETTO:-0400
TZNAME:EDT
DTSTART:20250309T070000
END:DAYLIGHT
BEGIN:STANDARD
TZOFFSETFROM:-0400
TZOFFSETTO:-0500
TZNAME:EST
DTSTART:20251102T060000
END:STANDARD
END:VTIMEZONE
BEGIN:VEVENT
DTSTART;TZID=America/Toronto:20250430T130000
DTEND;TZID=America/Toronto:20250430T140000
DTSTAMP:20260422T083632
CREATED:20250411T130804Z
LAST-MODIFIED:20250411T172447Z
UID:7570-1746018000-1746021600@idcwinbig.ca
SUMMARY:Allianz Global Assistance - Emergency Medical for Canadians
DESCRIPTION:CLICK HERE TO REGISTER\nJoin Jordan Henry\, Business Development Manager at Allianz Partners in this training session to explore how Allianz Emergency Medical Travel Insurance can be a cornerstone in your advisory services\, strengthening client relationships and boosting your business growth. \n1 Credit including QC
URL:https://idcwinbig.ca/event/allianz-global-assistance-emergency-medical-for-canadians/
CATEGORIES:Webinar
END:VEVENT
END:VCALENDAR