BEGIN:VCALENDAR
VERSION:2.0
PRODID:-//IDC WIN BIG | Business Innovation and Growth - ECPv5.7.1//NONSGML v1.0//EN
CALSCALE:GREGORIAN
METHOD:PUBLISH
X-WR-CALNAME:IDC WIN BIG | Business Innovation and Growth
X-ORIGINAL-URL:https://idcwinbig.ca
X-WR-CALDESC:Events for IDC WIN BIG | Business Innovation and Growth
BEGIN:VTIMEZONE
TZID:America/Toronto
BEGIN:DAYLIGHT
TZOFFSETFROM:-0500
TZOFFSETTO:-0400
TZNAME:EDT
DTSTART:20250309T070000
END:DAYLIGHT
BEGIN:STANDARD
TZOFFSETFROM:-0400
TZOFFSETTO:-0500
TZNAME:EST
DTSTART:20251102T060000
END:STANDARD
END:VTIMEZONE
BEGIN:VEVENT
DTSTART;TZID=America/Toronto:20250708T130000
DTEND;TZID=America/Toronto:20250708T140000
DTSTAMP:20260419T205124
CREATED:20250702T204812Z
LAST-MODIFIED:20250702T204812Z
UID:7679-1751979600-1751983200@idcwinbig.ca
SUMMARY:NPC Computing - Cyber-Security Tails and Tips – Secure your practice against cyber-security threats!
DESCRIPTION:CLICK HERE TO REGISTER\nEvery cyber attack is an opportunity to learn where vulnerabilities exist so that we may rectify them and prevent similar attacks in the future. \nLearning about other attacks makes us aware of the kinds of strategies and attack methods that are possible\, but also how successful attacks often rely on human error; we not only learn how to prevent attacks on a technical level\, but we can also learn from others’ mistakes so that we may avoid making similar preventable errors. \nDon’t miss this crucial opportunity to strengthen your defenses—join our webinar and stay ahead of the next cyber threat. \n1 CE credit (ON\, BC\, AB\, QC) (You must stay on for the full presentation to receive your credit) \n**Ensure you enter your full first and last name into the registration form as this is what will be shown on your CE certificate.**
URL:https://idcwinbig.ca/event/npc-computing-cyber-security-tails-and-tips-secure-your-practice-against-cyber-security-threats/
CATEGORIES:Webinar
END:VEVENT
END:VCALENDAR