BEGIN:VCALENDAR
VERSION:2.0
PRODID:-//IDC WIN BIG | Business Innovation and Growth - ECPv5.7.1//NONSGML v1.0//EN
CALSCALE:GREGORIAN
METHOD:PUBLISH
X-WR-CALNAME:IDC WIN BIG | Business Innovation and Growth
X-ORIGINAL-URL:https://idcwinbig.ca
X-WR-CALDESC:Events for IDC WIN BIG | Business Innovation and Growth
BEGIN:VTIMEZONE
TZID:America/Toronto
BEGIN:DAYLIGHT
TZOFFSETFROM:-0500
TZOFFSETTO:-0400
TZNAME:EDT
DTSTART:20230312T070000
END:DAYLIGHT
BEGIN:STANDARD
TZOFFSETFROM:-0400
TZOFFSETTO:-0500
TZNAME:EST
DTSTART:20231105T060000
END:STANDARD
END:VTIMEZONE
BEGIN:VEVENT
DTSTART;TZID=America/Toronto:20230601T130000
DTEND;TZID=America/Toronto:20230601T140000
DTSTAMP:20260419T210147
CREATED:20230525T125528Z
LAST-MODIFIED:20230525T125528Z
UID:6410-1685624400-1685628000@idcwinbig.ca
SUMMARY:Beneva - Protecting Children's Insurability
DESCRIPTION:CLICK TO REGISTER\n  \nPresenter:  Jeny Yeung\, CFP\, EPC Senior Director\, Business Development\, Individual Life Products \nWhat better day than International Children’s day to discuss insurance for children.  Every parent has been the bandaid and Kleenex provider for all those scraps and bruises\, cheering squad and biggest fan at all the sporting events.   We know children are a gift. Let’s protect that gift with insurance.  Protecting their insurability now since we know life has its own bump and bruises along the way. \n1 CE credit | PDU \n 
URL:https://idcwinbig.ca/event/beneva-protecting-childrens-insurability/
CATEGORIES:Webinar
END:VEVENT
BEGIN:VEVENT
DTSTART;TZID=America/Toronto:20230606T130000
DTEND;TZID=America/Toronto:20230606T140000
DTSTAMP:20260419T210147
CREATED:20230525T130325Z
LAST-MODIFIED:20230525T130325Z
UID:6413-1686056400-1686060000@idcwinbig.ca
SUMMARY:Empire Life - The Kid Start Strategy
DESCRIPTION:  \nCLICK TO REGISTER\n  \nPresenter:  Mark Murano \nIf you have clients who are at that stage in their life where they are enjoying financial security\, and want to help their grandchildren get an early start on the way to a financially secure future\, purchasing a Participating Whole Life Insurance policy on their grandchild’s life may be the right approach.  We’ll dive deep into Empire Life’s client focused marketing\, ‘the Kid Start Program’. \n1 CE Credit
URL:https://idcwinbig.ca/event/empire-life-the-kid-start-strategy/
CATEGORIES:Webinar
END:VEVENT
BEGIN:VEVENT
DTSTART;TZID=America/Toronto:20230607T130000
DTEND;TZID=America/Toronto:20230607T140000
DTSTAMP:20260419T210147
CREATED:20230525T130850Z
LAST-MODIFIED:20230525T130926Z
UID:6415-1686142800-1686146400@idcwinbig.ca
SUMMARY:Equitable Life - Next Generation Planning with the Power of Story-selling
DESCRIPTION:CLICK TO REGISTER\n  \nPresenter: Katherine Hill\, Regional Sales Manager\, Individual Life & Health \nLearn how to tell the story of participating whole life and how valuable it can be in giving the next generation a head start in life.  Tap into the power of story-selling and learn how to have conversations that appeal to the client’s CORE VALUES\, the driving force behind every decision an individual makes. \n1 CE Credit | PDU
URL:https://idcwinbig.ca/event/equitable-life-next-generation-planning-with-the-power-of-story-selling/
CATEGORIES:Webinar
END:VEVENT
BEGIN:VEVENT
DTSTART;TZID=America/Toronto:20230608T130000
DTEND;TZID=America/Toronto:20230608T140000
DTSTAMP:20260419T210147
CREATED:20230525T131327Z
LAST-MODIFIED:20230525T131413Z
UID:6418-1686229200-1686232800@idcwinbig.ca
SUMMARY:Sun Life - Sun CII for Children
DESCRIPTION:CLICK TO REGISTER\n  \nPresenter: Yusudan Ren\, CFA\, CFP\, CLU\, Pl. Fin.\, Regional Sales Director\, Central North East Region \nAppreciate the need of CII for children. \n\nIdentify the benefits of purchasing a CII plan for young children.\nUnderstand the insurance solution\, how it works and what options that are available the tailor the plan for the client.\nExplain how to build a plan that protects the child through their lifetime and answer key question that might come up during the sales process.\n\n1 CE credit | PDU
URL:https://idcwinbig.ca/event/sun-life-sun-cii-for-children/
CATEGORIES:Webinar
END:VEVENT
BEGIN:VEVENT
DTSTART;TZID=America/Toronto:20230613T130000
DTEND;TZID=America/Toronto:20230613T140000
DTSTAMP:20260419T210147
CREATED:20230605T155219Z
LAST-MODIFIED:20230605T155219Z
UID:6427-1686661200-1686664800@idcwinbig.ca
SUMMARY:RBC Growth Insurance for Juveniles: Growing Children\, Growing Values
DESCRIPTION:  \nCLICK TO REGISTER\n1 CE credit pending \nPresenter:  Anna Tsepelis\, CLU\, CHS | Senior Sales Consultant | RBC Insurance \nSet children up for success with RBC Growth Insurance participating whole life for juveniles. From protecting their future with our industry-first approach to guaranteed insurability benefits to tax-effective transfers of wealth with the Waterfall Concept\, we’ll discuss how juvenile par whole life for children benefits families not just today\, but for generations to come.
URL:https://idcwinbig.ca/event/rbc-growth-insurance-for-juveniles-growing-children-growing-values/
CATEGORIES:Webinar
END:VEVENT
BEGIN:VEVENT
DTSTART;TZID=America/Toronto:20230620T130000
DTEND;TZID=America/Toronto:20230620T140000
DTSTAMP:20260419T210147
CREATED:20230605T182259Z
LAST-MODIFIED:20230605T182259Z
UID:6429-1687266000-1687269600@idcwinbig.ca
SUMMARY:iA Financial Group - RESPs\, Wealth Transfer and Child Whole life concepts
DESCRIPTION:CLICK TO REGISTER\nPresenter:  Fraser Grimes | Inside Sales Associate\, Investments | Individual Investment & Retirement Products\, Ontario \nThe presentation will encompass the following topics: \n\nRESPs\nGenerational Wealth Transfer for minor beneficiaries\nChild Whole Life Policy\n\n1 CE credit
URL:https://idcwinbig.ca/event/ia-financial-group-resps-wealth-transfer-and-child-whole-life-concepts/
CATEGORIES:Webinar
END:VEVENT
BEGIN:VEVENT
DTSTART;TZID=America/Toronto:20230621T130000
DTEND;TZID=America/Toronto:20230621T140000
DTSTAMP:20260419T210147
CREATED:20230605T182818Z
LAST-MODIFIED:20230605T182818Z
UID:6431-1687352400-1687356000@idcwinbig.ca
SUMMARY:Humania - "This is Kids' Stuff" - Children's Insurance: Because we care too
DESCRIPTION:CLICK TO REGISTER\nPresenter: Simon Ioia | Sales Representative | Ontario\, Manitoba | Humania Assurance \nThis presentation is meant to remind and inspire that financial planning is ‘wholistic’ work. Helping families ‘plan for the best but prepare for the worst’ is the very reason for the advisor role. If Children are a part of that plan\, then they are a part of the ‘whole’. Let’s count them in. Because they count. \n1 CE credit \n 
URL:https://idcwinbig.ca/event/humania-this-is-kids-stuff-childrens-insurance-because-we-care-too/
CATEGORIES:Webinar
END:VEVENT
BEGIN:VEVENT
DTSTART;TZID=America/Toronto:20230622T130000
DTEND;TZID=America/Toronto:20230622T140000
DTSTAMP:20260419T210147
CREATED:20230606T192009Z
LAST-MODIFIED:20230606T192009Z
UID:6439-1687438800-1687442400@idcwinbig.ca
SUMMARY:Conquest’s Introductory Showcase
DESCRIPTION:CLICK TO REGISTER\nPresenter: Rosie Jurgutis | Manager\, Customer Success | Conquest \nBased on advisor feedback\, we are revamping our Conquest offering to accommodate your growing needs. Starting Monday\, June 19\, both our plan types and our plan packages will be simplified\, making it easier for you to provide valuable financial strategies to your clients. Our next session can help you understand the platform and pricing changes. \nJoin us on June 22\, 2023 for Conquest’s Introductory Showcase with Rosie Jurgutis\, Manager\, Customer Success at Conquest Planning\, who will do a beginners walkthrough of the Conquest Planning software and answer your questions. \nNo CE Credits\, No PDUs
URL:https://idcwinbig.ca/event/conquests-introductory-showcase/
CATEGORIES:Webinar
END:VEVENT
BEGIN:VEVENT
DTSTART;TZID=America/Toronto:20230627T130000
DTEND;TZID=America/Toronto:20230627T140000
DTSTAMP:20260419T210147
CREATED:20230605T183417Z
LAST-MODIFIED:20230605T183417Z
UID:6434-1687870800-1687874400@idcwinbig.ca
SUMMARY:Specialty Life - Evolution Powered to Insure Children
DESCRIPTION:CLICK TO REGISTER\nPresenter: Varshni Nimal | Internal Wholesaler (ON) \nSpeciality Life provides life and C.I coverage for children with and without medical conditions. Our unique underwriting approach makes it easy to secure coverage for loved ones. \n1 CE credit
URL:https://idcwinbig.ca/event/specialty-life-evolution-powered-to-insure-children/
CATEGORIES:Webinar
END:VEVENT
BEGIN:VEVENT
DTSTART;TZID=America/Toronto:20230628T130000
DTEND;TZID=America/Toronto:20230628T140000
DTSTAMP:20260419T210147
CREATED:20230605T184037Z
LAST-MODIFIED:20230605T184055Z
UID:6436-1687957200-1687960800@idcwinbig.ca
SUMMARY:Desjardins - Protection For What Matters Most
DESCRIPTION:CLICK TO REGISTER\nPresenter:  Aris Christodoulou | Regional Sales Director\, CIM | Desjardins Insurance \nExploring unique CI and Life solutions that provide for a future full of possibilities \n1 CE credit – PDU to be confirmed \n(You must stay on for the full presentation to receive your credit)
URL:https://idcwinbig.ca/event/desjardins-protection-for-what-matters-most/
CATEGORIES:Webinar
END:VEVENT
BEGIN:VEVENT
DTSTART;TZID=America/Toronto:20230629T130000
DTEND;TZID=America/Toronto:20230629T140000
DTSTAMP:20260419T210147
CREATED:20230616T183813Z
LAST-MODIFIED:20230616T184104Z
UID:6455-1688043600-1688047200@idcwinbig.ca
SUMMARY:Circle of Wealth - Financial GPS: Guiding clients to where they want to be
DESCRIPTION:CLICK TO REGISTER\n\n\n\n\n\nFor IDC WIN Financial Professionals\n\n\n\n\n\n\n\n\nDo you know the four most important financial questions we all face?  Financial GPS answers these questions and guides your clients to want to plan and save for their financial future.\n\nNo CE Credits
URL:https://idcwinbig.ca/event/circle-of-wealth-financial-gps-guiding-clients-to-where-they-want-to-be/
CATEGORIES:Webinar
END:VEVENT
END:VCALENDAR