BEGIN:VCALENDAR
VERSION:2.0
PRODID:-//IDC WIN BIG | Business Innovation and Growth - ECPv5.7.1//NONSGML v1.0//EN
CALSCALE:GREGORIAN
METHOD:PUBLISH
X-WR-CALNAME:IDC WIN BIG | Business Innovation and Growth
X-ORIGINAL-URL:https://idcwinbig.ca
X-WR-CALDESC:Events for IDC WIN BIG | Business Innovation and Growth
BEGIN:VTIMEZONE
TZID:America/Toronto
BEGIN:DAYLIGHT
TZOFFSETFROM:-0500
TZOFFSETTO:-0400
TZNAME:EDT
DTSTART:20220313T070000
END:DAYLIGHT
BEGIN:STANDARD
TZOFFSETFROM:-0400
TZOFFSETTO:-0500
TZNAME:EST
DTSTART:20221106T060000
END:STANDARD
END:VTIMEZONE
BEGIN:VEVENT
DTSTART;TZID=America/Toronto:20220524T110000
DTEND;TZID=America/Toronto:20220524T130000
DTSTAMP:20260422T195058
CREATED:20220505T221146Z
LAST-MODIFIED:20220505T221146Z
UID:4365-1653390000-1653397200@idcwinbig.ca
SUMMARY:Mandarin Webinar:  The Foresters Advantage\, Why Foresters?
DESCRIPTION:Regional Vice President\, Asian Markets – Eastern Canada \n1 CE Credit\, except for SK \nCLICK TO REGISTER\nPart 1:  Forester PAR wholelife product introduction \nPart 2:  Member benefits \nPart 3:  9 companies PAR wholelife competition comparison
URL:https://idcwinbig.ca/event/mandarin-webinar-the-foresters-advantage-why-foresters/
CATEGORIES:Webinar
END:VEVENT
END:VCALENDAR