BEGIN:VCALENDAR
VERSION:2.0
PRODID:-//IDC WIN BIG | Business Innovation and Growth - ECPv5.7.1//NONSGML v1.0//EN
CALSCALE:GREGORIAN
METHOD:PUBLISH
X-WR-CALNAME:IDC WIN BIG | Business Innovation and Growth
X-ORIGINAL-URL:https://idcwinbig.ca
X-WR-CALDESC:Events for IDC WIN BIG | Business Innovation and Growth
BEGIN:VTIMEZONE
TZID:America/Toronto
BEGIN:DAYLIGHT
TZOFFSETFROM:-0500
TZOFFSETTO:-0400
TZNAME:EDT
DTSTART:20220313T070000
END:DAYLIGHT
BEGIN:STANDARD
TZOFFSETFROM:-0400
TZOFFSETTO:-0500
TZNAME:EST
DTSTART:20221106T060000
END:STANDARD
END:VTIMEZONE
BEGIN:VEVENT
DTSTART;TZID=America/Toronto:20220525T130000
DTEND;TZID=America/Toronto:20220525T140000
DTSTAMP:20260422T195857
CREATED:20220502T161917Z
LAST-MODIFIED:20220502T165830Z
UID:4311-1653483600-1653487200@idcwinbig.ca
SUMMARY:Assumption Life: Part 1-A holistic approach for your clients-Cross Selling Investments to your life insurance clients\, while creating wealth for you the advisor!
DESCRIPTION:          \nInvestment knowledge series Part 1 of 3\n                                                                                \nClaudette Richard                                                                             Daniel Audet\, MBANational Director\, Investment and Retirement                       Associate Vice-President\, Individual Insurance and InvestmentsRead Claudette’s bio HERE                                                           Read Daniel’s bio HERE \nCLICK TO REGISTER\nCE Credits under review \nAgenda:  \nAssumption Life will show you how easy it is to learn about investments and sell investments all while servicing your existing life insurance clients.  We will show you the revenue potential of growing your investment book during your career and selling your investment book when you retire\, adding a large lump sum to your financial plan for retirement.  Cross selling is a good holistic approach to financial planning and retaining your clients over the long term.  We will review a client’s life cycle and uncover your client’s needs by asking open ended questions.  We will review the benefits of open ended questions\, having great listening skills and the benefits of using a CRM all for the success of your business.  When you ask the right questions and you prioritize your time it is a easy as 1\, 2\, 3\, let investments change your retirement plans!   \nDon’t forget to register for Parts 2 & 3 to complete the Assumption investment knowledge 3 part series! \nPart 2 – May 31\, 2022Part 3 – June 7\, 2022
URL:https://idcwinbig.ca/event/assumption-life-a-holistic-approach-for-your-clients-cross-selling-investments-to-your-life-insurance-clients-while-creating-wealth-for-you-the-advisor/
CATEGORIES:Webinar
END:VEVENT
END:VCALENDAR