BEGIN:VCALENDAR
VERSION:2.0
PRODID:-//IDC WIN BIG | Business Innovation and Growth - ECPv5.7.1//NONSGML v1.0//EN
CALSCALE:GREGORIAN
METHOD:PUBLISH
X-WR-CALNAME:IDC WIN BIG | Business Innovation and Growth
X-ORIGINAL-URL:https://idcwinbig.ca
X-WR-CALDESC:Events for IDC WIN BIG | Business Innovation and Growth
BEGIN:VTIMEZONE
TZID:America/Toronto
BEGIN:DAYLIGHT
TZOFFSETFROM:-0500
TZOFFSETTO:-0400
TZNAME:EDT
DTSTART:20230312T070000
END:DAYLIGHT
BEGIN:STANDARD
TZOFFSETFROM:-0400
TZOFFSETTO:-0500
TZNAME:EST
DTSTART:20231105T060000
END:STANDARD
END:VTIMEZONE
BEGIN:VEVENT
DTSTART;TZID=America/Toronto:20230706T130000
DTEND;TZID=America/Toronto:20230706T140000
DTSTAMP:20260419T224929
CREATED:20230616T185228Z
LAST-MODIFIED:20230616T185228Z
UID:6462-1688648400-1688652000@idcwinbig.ca
SUMMARY:IDC WIN and Manulife Bank - The greatest cash-gathering magnet in the industry
DESCRIPTION:    \nCLICK TO REGISTER\nNational Webinar – IDC WIN and Manulife Bank \nThe greatest cash-gathering magnet in the industry: \n5%* Advantage Account rate promo \n+ \nPersonal advisor URL that Manulife Bank creates for you linked to your Manulife selling code to send to clients and prospects \n+ \nCash balance reporting via My Clients \nIf the key to success as an advisor is getting in front of people with cash\, it does not get any better than this – truly a marketing gift to our industry \nOpening and Closing Remarks \nVic Raye\, National Director\, Banking Services\, IDC WIN \nSpecial Guest Presenter \nPamela Crugnale\, Product Manager\, Deposits
URL:https://idcwinbig.ca/event/idc-win-and-manulife-bank-the-greatest-cash-gathering-magnet-in-the-industry/
CATEGORIES:Webinar
END:VEVENT
END:VCALENDAR