BEGIN:VCALENDAR
VERSION:2.0
PRODID:-//IDC WIN BIG | Business Innovation and Growth - ECPv5.7.1//NONSGML v1.0//EN
CALSCALE:GREGORIAN
METHOD:PUBLISH
X-WR-CALNAME:IDC WIN BIG | Business Innovation and Growth
X-ORIGINAL-URL:https://idcwinbig.ca
X-WR-CALDESC:Events for IDC WIN BIG | Business Innovation and Growth
BEGIN:VTIMEZONE
TZID:America/Toronto
BEGIN:DAYLIGHT
TZOFFSETFROM:-0500
TZOFFSETTO:-0400
TZNAME:EDT
DTSTART:20230312T070000
END:DAYLIGHT
BEGIN:STANDARD
TZOFFSETFROM:-0400
TZOFFSETTO:-0500
TZNAME:EST
DTSTART:20231105T060000
END:STANDARD
END:VTIMEZONE
BEGIN:VEVENT
DTSTART;TZID=America/Toronto:20230713T113000
DTEND;TZID=America/Toronto:20230713T123000
DTSTAMP:20260419T211007
CREATED:20230711T143730Z
LAST-MODIFIED:20230711T143730Z
UID:6500-1689247800-1689251400@idcwinbig.ca
SUMMARY:RBC Insurance - Session 1 - Life and Disability\, Flexibility to meet your client's needs
DESCRIPTION:CLICK TO REGISTER\nCE credits pending  – BC \nThe demand for insurance has never been greater\, yet more than half of Canadians overestimate its cost or assume they won’t need it.  Furthermore\, 1 in 3 families admits a financial disaster would happen within a month if the primary income earner were to pass away.  This presents an opportunity for advisors to educate the general population & expand their clientele. \nJoin us on July 13th for a discussion on how to close the knowledge gap to close the insurance gap & offering flexible solutions that match the needs of our clients. \nIDC WIN is promoting this event and is not IDC WIN hosted.
URL:https://idcwinbig.ca/event/rbc-insurance-session-1-life-and-disability-flexibility-to-meet-your-clients-needs/
CATEGORIES:Webinar
END:VEVENT
BEGIN:VEVENT
DTSTART;TZID=America/Toronto:20230713T130000
DTEND;TZID=America/Toronto:20230713T141500
DTSTAMP:20260419T211007
CREATED:20230627T201546Z
LAST-MODIFIED:20230627T201546Z
UID:6484-1689253200-1689257700@idcwinbig.ca
SUMMARY:Canada Life - 2023 Mid-Year market outlook
DESCRIPTION:CLICK TO REGISTER\nCE accreditation for this streaming event is pending approval \nVolatility\, inflation and banking risks have put a damper on the outlook for growth. But could there be a silver lining for investors as we move into the second half of the year? \nThe global investment managers on our shelf see an evolving set of opportunities for active managers across asset classes. We’re here to help you and your clients prepare for what’s next. \n​Join us Thursday\, July 13 from 1 to 2:15 p.m. ET to learn how the investment landscape could change over the next half of the year from investment managers across the Canada Life™ shelf. \nIDC WIN is promoting this event and is not IDC WIN hosted.
URL:https://idcwinbig.ca/event/canada-life-2023-mid-year-market-outlook/
CATEGORIES:Webinar
END:VEVENT
END:VCALENDAR