BEGIN:VCALENDAR
VERSION:2.0
PRODID:-//IDC WIN BIG | Business Innovation and Growth - ECPv5.7.1//NONSGML v1.0//EN
CALSCALE:GREGORIAN
METHOD:PUBLISH
X-WR-CALNAME:IDC WIN BIG | Business Innovation and Growth
X-ORIGINAL-URL:https://idcwinbig.ca
X-WR-CALDESC:Events for IDC WIN BIG | Business Innovation and Growth
BEGIN:VTIMEZONE
TZID:America/Toronto
BEGIN:DAYLIGHT
TZOFFSETFROM:-0500
TZOFFSETTO:-0400
TZNAME:EDT
DTSTART:20230312T070000
END:DAYLIGHT
BEGIN:STANDARD
TZOFFSETFROM:-0400
TZOFFSETTO:-0500
TZNAME:EST
DTSTART:20231105T060000
END:STANDARD
END:VTIMEZONE
BEGIN:VEVENT
DTSTART;TZID=America/Toronto:20230718T133000
DTEND;TZID=America/Toronto:20230718T143000
DTSTAMP:20260419T210811
CREATED:20230711T144213Z
LAST-MODIFIED:20230711T144213Z
UID:6502-1689687000-1689690600@idcwinbig.ca
SUMMARY:Beneva - Digital Dividends: Growing Your Business Through Online Presence
DESCRIPTION:CLICK TO REGISTER\n1 CE credit \nAfter more than a decade of favourable market conditions and the unprecedented challenges posed by the pandemic\, many advisors have discovered that relying on in-person networking is no longer a reliable source of growth. Instead\, advisors need to adapt their practice to have a digital marketing component in order to ensure that they are achieving their prospecting potential. This presentation will discuss: \n\nHow the prospecting blueprint has changed\nProspecting power boosters: driving growth in any market condition\nHigh tech\, high reach: getting an audience with the clients you want\n\nThe new realities shouldn’t impact your ability to convert a prospect into a client. CI Advisor Consulting’s Practice Management team will show you the strategies to improve your prospect pool\, providing more choice and control of who you ultimately bring into your client group. \nIDC WIN is promoting this event and is not IDC WIN hosted.
URL:https://idcwinbig.ca/event/beneva-digital-dividends-growing-your-business-through-online-presence/
CATEGORIES:Webinar
END:VEVENT
END:VCALENDAR