BEGIN:VCALENDAR
VERSION:2.0
PRODID:-//IDC WIN BIG | Business Innovation and Growth - ECPv5.7.1//NONSGML v1.0//EN
CALSCALE:GREGORIAN
METHOD:PUBLISH
X-WR-CALNAME:IDC WIN BIG | Business Innovation and Growth
X-ORIGINAL-URL:https://idcwinbig.ca
X-WR-CALDESC:Events for IDC WIN BIG | Business Innovation and Growth
BEGIN:VTIMEZONE
TZID:America/Toronto
BEGIN:DAYLIGHT
TZOFFSETFROM:-0500
TZOFFSETTO:-0400
TZNAME:EDT
DTSTART:20230312T070000
END:DAYLIGHT
BEGIN:STANDARD
TZOFFSETFROM:-0400
TZOFFSETTO:-0500
TZNAME:EST
DTSTART:20231105T060000
END:STANDARD
END:VTIMEZONE
BEGIN:VEVENT
DTSTART;TZID=America/Toronto:20230725T130000
DTEND;TZID=America/Toronto:20230725T140000
DTSTAMP:20260419T210826
CREATED:20230719T145529Z
LAST-MODIFIED:20230719T145529Z
UID:6532-1690290000-1690293600@idcwinbig.ca
SUMMARY:Serenia Life:  Engage your clients effectively - The Power of conducting a thorough fact-find
DESCRIPTION:Join us for an engaging and informative training session designed specifically for advisors seeking to enhance client engagement and maximize their potential for success. In this session\, we will delve into the crucial aspects of the qualification process and the importance of conducting a comprehensive fact-find. \n1 CE Credit \nCLICK TO REGISTER
URL:https://idcwinbig.ca/event/serenia-life-engage-your-clients-effectively-the-power-of-conducting-a-thorough-fact-find/
CATEGORIES:Webinar
END:VEVENT
END:VCALENDAR