BEGIN:VCALENDAR
VERSION:2.0
PRODID:-//IDC WIN BIG | Business Innovation and Growth - ECPv5.7.1//NONSGML v1.0//EN
CALSCALE:GREGORIAN
METHOD:PUBLISH
X-WR-CALNAME:IDC WIN BIG | Business Innovation and Growth
X-ORIGINAL-URL:https://idcwinbig.ca
X-WR-CALDESC:Events for IDC WIN BIG | Business Innovation and Growth
BEGIN:VTIMEZONE
TZID:America/Toronto
BEGIN:DAYLIGHT
TZOFFSETFROM:-0500
TZOFFSETTO:-0400
TZNAME:EDT
DTSTART:20230312T070000
END:DAYLIGHT
BEGIN:STANDARD
TZOFFSETFROM:-0400
TZOFFSETTO:-0500
TZNAME:EST
DTSTART:20231105T060000
END:STANDARD
END:VTIMEZONE
BEGIN:VEVENT
DTSTART;TZID=America/Toronto:20230727T113000
DTEND;TZID=America/Toronto:20230727T123000
DTSTAMP:20260419T210805
CREATED:20230719T195043Z
LAST-MODIFIED:20230719T195043Z
UID:6535-1690457400-1690461000@idcwinbig.ca
SUMMARY:RBC Insurance:  RBCCI Summer Series - Wage Loss Replacement Plan
DESCRIPTION:Unfortunately\, of the 1.2 million businesses in Canada\, 75% lack group benefits. These businesses employ 50% of\nthe Canadian workforce\, with 60% of employees preferring a benefits package over a $10\,000 salary increase.\nWithout a group benefits program in place\, candidates are likely to look elsewhere for a job\, signifying the\nimportance for business owners to acquire a WLRP. Join us to learn how the employee\, employer\, & you ( the\nadvisor) can reap the numerous benefits from WLRP solutions. \n1 CE Credit pending \nCLICK TO REGISTER
URL:https://idcwinbig.ca/event/rbc-insurance-rbcci-summer-series-wage-loss-replacement-plan/
CATEGORIES:Webinar
END:VEVENT
END:VCALENDAR