BEGIN:VCALENDAR
VERSION:2.0
PRODID:-//IDC WIN BIG | Business Innovation and Growth - ECPv5.7.1//NONSGML v1.0//EN
CALSCALE:GREGORIAN
METHOD:PUBLISH
X-WR-CALNAME:IDC WIN BIG | Business Innovation and Growth
X-ORIGINAL-URL:https://idcwinbig.ca
X-WR-CALDESC:Events for IDC WIN BIG | Business Innovation and Growth
BEGIN:VTIMEZONE
TZID:America/Toronto
BEGIN:DAYLIGHT
TZOFFSETFROM:-0500
TZOFFSETTO:-0400
TZNAME:EDT
DTSTART:20230312T070000
END:DAYLIGHT
BEGIN:STANDARD
TZOFFSETFROM:-0400
TZOFFSETTO:-0500
TZNAME:EST
DTSTART:20231105T060000
END:STANDARD
END:VTIMEZONE
BEGIN:VEVENT
DTSTART;TZID=America/Toronto:20230908T113000
DTEND;TZID=America/Toronto:20230908T123000
DTSTAMP:20260419T180115
CREATED:20230829T203145Z
LAST-MODIFIED:20230829T203145Z
UID:6578-1694172600-1694176200@idcwinbig.ca
SUMMARY:RBC Insurance: Fall Disability Insurance School-BONUS SESSION - Fundamental Series
DESCRIPTION:CLICK HERE TO REGISTER\nDescription: \nBefore beginning DI School\, Jonathan will introduce the most “stripped down” disability product that covers the broadest market segment: The Fundamental Series.  It is the backbone for RBC’s more intricate products and can be easily incorporated to serve your clients. \nIDC WIN is promoting this event and is not IDC WIN hosted.
URL:https://idcwinbig.ca/event/rbc-insurance-fall-disability-insurance-school-bonus-session-fundamental-series/
CATEGORIES:Webinar
END:VEVENT
END:VCALENDAR