BEGIN:VCALENDAR
VERSION:2.0
PRODID:-//IDC WIN BIG | Business Innovation and Growth - ECPv5.7.1//NONSGML v1.0//EN
CALSCALE:GREGORIAN
METHOD:PUBLISH
X-WR-CALNAME:IDC WIN BIG | Business Innovation and Growth
X-ORIGINAL-URL:https://idcwinbig.ca
X-WR-CALDESC:Events for IDC WIN BIG | Business Innovation and Growth
BEGIN:VTIMEZONE
TZID:America/Toronto
BEGIN:DAYLIGHT
TZOFFSETFROM:-0500
TZOFFSETTO:-0400
TZNAME:EDT
DTSTART:20230312T070000
END:DAYLIGHT
BEGIN:STANDARD
TZOFFSETFROM:-0400
TZOFFSETTO:-0500
TZNAME:EST
DTSTART:20231105T060000
END:STANDARD
END:VTIMEZONE
BEGIN:VEVENT
DTSTART;TZID=America/Toronto:20231011T090000
DTEND;TZID=America/Toronto:20231011T150000
DTSTAMP:20260419T162931
CREATED:20230829T204734Z
LAST-MODIFIED:20230829T204944Z
UID:6587-1697014800-1697036400@idcwinbig.ca
SUMMARY:Manulife: 2-part Synergy School - Part 1 (Various times)
DESCRIPTION:CLICK HERE TO REGISTER\nJoin Vanessa Scott\, National Living Benefits Consultant\, for a 60-minute webinar. This online series is a great opportunity to learn or refresh your knowledge and understanding of the Synergy Insurance market. We will start with the basics but quickly move onto more detailed topics. You are welcome to join both sessions or select to attend a single session\, totally up to you and your schedule. \nThe calendar of our on-line School is below and regardless of the timing of the session\, we will focus not just on the nuts and bolts of product but repeatable language and positioning and we hope to have you join us. \nThere are four times available\, pick one only upon registration. \n\nThis is a repeat of the April Synergy School.\nPlease watch for the two part CE presentation code during the live webinar\, as it cannot be sent afterwards.\n\nIDC WIN is promoting this event and is not IDC WIN hosted.
URL:https://idcwinbig.ca/event/manulife-2-part-synergy-school-part-1-various-times/
CATEGORIES:Webinar
END:VEVENT
BEGIN:VEVENT
DTSTART;TZID=America/Toronto:20231011T130000
DTEND;TZID=America/Toronto:20231011T153000
DTSTAMP:20260419T162931
CREATED:20230919T193400Z
LAST-MODIFIED:20230919T193400Z
UID:6609-1697029200-1697038200@idcwinbig.ca
SUMMARY:Beneva Canada Virtual Roadshow
DESCRIPTION:CLICK HERE TO REGISTER\nCanada Virtual Roadshow- Tailored Financial Solutions for Every Individual \nDescription: \nAt Beneva we understand that each client is unique. That is why we offer valuable and complete financial guidance tailored to your clients’ specific needs. By attending our virtual event\, you will gain insights on how Beneva can support you and help you grow your business.  You will hear from Industry leaders\, Senior Management\, our Underwriting and Sales Teams. These presentations are eligible for CE credits. Prize giveaways also await you! \n2 CE credits for attending the entire event \nIDC WIN is promoting this event and is not IDC WIN hosted.
URL:https://idcwinbig.ca/event/beneva-canada-virtual-roadshow/
CATEGORIES:Webinar
END:VEVENT
END:VCALENDAR