BEGIN:VCALENDAR
VERSION:2.0
PRODID:-//IDC WIN BIG | Business Innovation and Growth - ECPv5.7.1//NONSGML v1.0//EN
CALSCALE:GREGORIAN
METHOD:PUBLISH
X-WR-CALNAME:IDC WIN BIG | Business Innovation and Growth
X-ORIGINAL-URL:https://idcwinbig.ca
X-WR-CALDESC:Events for IDC WIN BIG | Business Innovation and Growth
BEGIN:VTIMEZONE
TZID:America/Toronto
BEGIN:DAYLIGHT
TZOFFSETFROM:-0500
TZOFFSETTO:-0400
TZNAME:EDT
DTSTART:20230312T070000
END:DAYLIGHT
BEGIN:STANDARD
TZOFFSETFROM:-0400
TZOFFSETTO:-0500
TZNAME:EST
DTSTART:20231105T060000
END:STANDARD
END:VTIMEZONE
BEGIN:VEVENT
DTSTART;TZID=America/Toronto:20231107T130000
DTEND;TZID=America/Toronto:20231107T140000
DTSTAMP:20260419T143434
CREATED:20231103T184212Z
LAST-MODIFIED:20231103T184846Z
UID:6719-1699362000-1699365600@idcwinbig.ca
SUMMARY:IDC WIN Banking and Manulife Bank - TWO superb bank account special offers!
DESCRIPTION:    \nCLICK HERE TO REGISTER\nPresenters:\n– Pamela Crugnale | Product Manager\, Deposits | Manulife Bank\n– Vic Raye | National Director\, Banking Services | IDC Worldsource Insurance Network Inc. \nSummary: \nIf the key to success as an advisor is getting in front of people with cash\, it does not get any better than this session – truly a marketing magnet for our industry. \nCE CREDITS ARE NOT AVAILABLE FOR THIS WEBINAR
URL:https://idcwinbig.ca/event/idc-win-banking-and-manulife-bank-two-superb-bank-account-special-offers/
CATEGORIES:Webinar
END:VEVENT
END:VCALENDAR