BEGIN:VCALENDAR
VERSION:2.0
PRODID:-//IDC WIN BIG | Business Innovation and Growth - ECPv5.7.1//NONSGML v1.0//EN
CALSCALE:GREGORIAN
METHOD:PUBLISH
X-WR-CALNAME:IDC WIN BIG | Business Innovation and Growth
X-ORIGINAL-URL:https://idcwinbig.ca
X-WR-CALDESC:Events for IDC WIN BIG | Business Innovation and Growth
BEGIN:VTIMEZONE
TZID:America/Toronto
BEGIN:DAYLIGHT
TZOFFSETFROM:-0500
TZOFFSETTO:-0400
TZNAME:EDT
DTSTART:20230312T070000
END:DAYLIGHT
BEGIN:STANDARD
TZOFFSETFROM:-0400
TZOFFSETTO:-0500
TZNAME:EST
DTSTART:20231105T060000
END:STANDARD
END:VTIMEZONE
BEGIN:VEVENT
DTSTART;TZID=America/Toronto:20231115T130000
DTEND;TZID=America/Toronto:20231115T140000
DTSTAMP:20260419T143600
CREATED:20231005T212124Z
LAST-MODIFIED:20231106T135319Z
UID:6658-1700053200-1700056800@idcwinbig.ca
SUMMARY:“SUCCESSION PLANNING” for the FINANCIAL ADVISOR
DESCRIPTION:1 CE credit:  AB\, BC\, ON\, ATL \nCLICK TO REGISTER\nJoin Alex Chan and Eric Wachtel as they discuss: \nSuccession Planning for the Financial Advisor…How to I sell My Business and What is it Worth? \nFrom the last 25 advisor book valuations with the majority resulting in a buy sell…I have discovered 13 key valuation criteria for evaluating and coming up with a valuation for an advisor’s practice. To apply an average industry multiple without in depth analysis and due diligence may not produce the best results. After all I have seen businesses with little or no value to exceptionally run and structured businesses that can fetch up to 5 times re-occurring revenue. During this webinar we will explore these 13 general categories of due diligence. You will also have the opportunity to think about your own book of business and apply a rough valuation formula yourself. This presentation was delivered at VP Conference West resulting in very positive feedback and further interest. Hope to see you there!
URL:https://idcwinbig.ca/event/succession-planning-for-the-financial-advisor/
CATEGORIES:Webinar
END:VEVENT
END:VCALENDAR