BEGIN:VCALENDAR
VERSION:2.0
PRODID:-//IDC WIN BIG | Business Innovation and Growth - ECPv5.7.1//NONSGML v1.0//EN
CALSCALE:GREGORIAN
METHOD:PUBLISH
X-WR-CALNAME:IDC WIN BIG | Business Innovation and Growth
X-ORIGINAL-URL:https://idcwinbig.ca
X-WR-CALDESC:Events for IDC WIN BIG | Business Innovation and Growth
BEGIN:VTIMEZONE
TZID:America/Toronto
BEGIN:DAYLIGHT
TZOFFSETFROM:-0500
TZOFFSETTO:-0400
TZNAME:EDT
DTSTART:20230312T070000
END:DAYLIGHT
BEGIN:STANDARD
TZOFFSETFROM:-0400
TZOFFSETTO:-0500
TZNAME:EST
DTSTART:20231105T060000
END:STANDARD
END:VTIMEZONE
BEGIN:VEVENT
DTSTART;TZID=America/Toronto:20231120T130000
DTEND;TZID=America/Toronto:20231120T140000
DTSTAMP:20260419T143435
CREATED:20231013T165425Z
LAST-MODIFIED:20231013T165425Z
UID:6679-1700485200-1700488800@idcwinbig.ca
SUMMARY:IDC WIN Workplace Solutions:  Group 101 - Session 3:  The marketing proposal and implementation process
DESCRIPTION:1 CE Credit | can only claim once per calendar year \nCLICK TO REGISTER\nIDC WIN Workplace Solutions is pleased to offer a four-part training program for all of our advisors who are currently offering or interested in adding group insurance to their repertoire and business services. \nSessions: \n\nProspecting and the importance of KYC\nRequest to quote process and group underwriting\nThe Marketing Proposal and Implementation process\nCommunication and employee engagement
URL:https://idcwinbig.ca/event/idc-win-workplace-solutions-group-101-session-3-the-marketing-proposal-and-implementation-process/
CATEGORIES:Webinar
END:VEVENT
END:VCALENDAR