BEGIN:VCALENDAR
VERSION:2.0
PRODID:-//IDC WIN BIG | Business Innovation and Growth - ECPv5.7.1//NONSGML v1.0//EN
CALSCALE:GREGORIAN
METHOD:PUBLISH
X-WR-CALNAME:IDC WIN BIG | Business Innovation and Growth
X-ORIGINAL-URL:https://idcwinbig.ca
X-WR-CALDESC:Events for IDC WIN BIG | Business Innovation and Growth
BEGIN:VTIMEZONE
TZID:America/Toronto
BEGIN:DAYLIGHT
TZOFFSETFROM:-0500
TZOFFSETTO:-0400
TZNAME:EDT
DTSTART:20230312T070000
END:DAYLIGHT
BEGIN:STANDARD
TZOFFSETFROM:-0400
TZOFFSETTO:-0500
TZNAME:EST
DTSTART:20231105T060000
END:STANDARD
END:VTIMEZONE
BEGIN:VEVENT
DTSTART;TZID=America/Toronto:20231122T130000
DTEND;TZID=America/Toronto:20231122T134500
DTSTAMP:20260419T143444
CREATED:20231114T203410Z
LAST-MODIFIED:20231114T203410Z
UID:6741-1700658000-1700660700@idcwinbig.ca
SUMMARY:iA Financial Group - Investment Opportunities and Taxation within a corporation
DESCRIPTION:*This webinar does not yield any CE credits* \nCLICK HERE TO REGISTER\nJoin us to discover what our Large Case Solutions team has in store to accompany advisors and ensure the implementation of strategies fully tailored to the specific needs of their affluent clients\, professionals or business owners. We will present how customized\, simple\, high-performance solutions will enable you to meet the specific needs of these clients. \nAmin Njonkou Kouandou\, Tax Expert\, will discuss complex financial strategies\, sales concepts and tax optimisation of individual insurance and savings products. \nIDC WIN is promoting this webinar\, it is not hosted by IDC WIN \n 
URL:https://idcwinbig.ca/event/ia-financial-group-investment-opportunities-and-taxation-within-a-corporation/
CATEGORIES:Webinar
END:VEVENT
END:VCALENDAR