BEGIN:VCALENDAR
VERSION:2.0
PRODID:-//IDC WIN BIG | Business Innovation and Growth - ECPv5.7.1//NONSGML v1.0//EN
CALSCALE:GREGORIAN
METHOD:PUBLISH
X-WR-CALNAME:IDC WIN BIG | Business Innovation and Growth
X-ORIGINAL-URL:https://idcwinbig.ca
X-WR-CALDESC:Events for IDC WIN BIG | Business Innovation and Growth
BEGIN:VTIMEZONE
TZID:America/Toronto
BEGIN:DAYLIGHT
TZOFFSETFROM:-0500
TZOFFSETTO:-0400
TZNAME:EDT
DTSTART:20230312T070000
END:DAYLIGHT
BEGIN:STANDARD
TZOFFSETFROM:-0400
TZOFFSETTO:-0500
TZNAME:EST
DTSTART:20231105T060000
END:STANDARD
END:VTIMEZONE
BEGIN:VEVENT
DTSTART;TZID=America/Toronto:20231201T130000
DTEND;TZID=America/Toronto:20231201T140000
DTSTAMP:20260419T125639
CREATED:20231123T175202Z
LAST-MODIFIED:20231123T175202Z
UID:6750-1701435600-1701439200@idcwinbig.ca
SUMMARY:Discover the new Payment Insurance Accident and Sickness from Humania Assurance (Humania hosted)
DESCRIPTION:Training for any representative who wishes to make disability insurance for payments in the event of an accident or illness. How disability works and the market comparison\, what is covered by this protection (personal\, business and overhead debts)\, We will discuss pricing\, definitions of disability\, benefits included\, clauses and endorsements. \nCLICK TO REGISTER\n1 CE credit:  To obtain your PDU/CE Credit\, you must be connected using a computer or mobile device\, watch the visual presentation\, complete the questionnaire that will be sent after the presentation and get the minimum gradeof 60%.
URL:https://idcwinbig.ca/event/discover-the-new-payment-insurance-accident-and-sickness-from-humania-assurance-humania-hosted/
CATEGORIES:Webinar
END:VEVENT
END:VCALENDAR