BEGIN:VCALENDAR
VERSION:2.0
PRODID:-//IDC WIN BIG | Business Innovation and Growth - ECPv5.7.1//NONSGML v1.0//EN
CALSCALE:GREGORIAN
METHOD:PUBLISH
X-WR-CALNAME:IDC WIN BIG | Business Innovation and Growth
X-ORIGINAL-URL:https://idcwinbig.ca
X-WR-CALDESC:Events for IDC WIN BIG | Business Innovation and Growth
BEGIN:VTIMEZONE
TZID:America/Toronto
BEGIN:DAYLIGHT
TZOFFSETFROM:-0500
TZOFFSETTO:-0400
TZNAME:EDT
DTSTART:20250309T070000
END:DAYLIGHT
BEGIN:STANDARD
TZOFFSETFROM:-0400
TZOFFSETTO:-0500
TZNAME:EST
DTSTART:20251102T060000
END:STANDARD
END:VTIMEZONE
BEGIN:VEVENT
DTSTART;TZID=America/Toronto:20250211T130000
DTEND;TZID=America/Toronto:20250211T140000
DTSTAMP:20260422T114112
CREATED:20250128T222601Z
LAST-MODIFIED:20250128T222601Z
UID:7440-1739278800-1739282400@idcwinbig.ca
SUMMARY:Equitable Life: Navigating Segregated Fund Contracts & PAR Enhancements: Key Updates and Insights
DESCRIPTION:CLICK HERE TO REGISTER\nJoin Sadaf Chowdhury\, Director of Investment Sales\, as he takes you through an informative session on Segregated Fund Contracts\, exploring the key players and features that make them unique. Then\, Philippa Cowie\, Director of Insurance Sales\, will highlight the latest PAR (Participating Account) enhancements and share general updates that can help you stay ahead of the curve. This webinar is designed to provide a comprehensive understanding of these important topics and equip you with the knowledge to navigate the evolving landscape of investment options. \n1 CE credit (EXCEPT QC) (You must stay on for the full presentation to receive your credit)
URL:https://idcwinbig.ca/event/equitable-life-navigating-segregated-fund-contracts-par-enhancements-key-updates-and-insights/
CATEGORIES:Webinar
END:VEVENT
BEGIN:VEVENT
DTSTART;TZID=America/Toronto:20250212T130000
DTEND;TZID=America/Toronto:20250212T140000
DTSTAMP:20260422T114112
CREATED:20250128T222841Z
LAST-MODIFIED:20250128T222841Z
UID:7442-1739365200-1739368800@idcwinbig.ca
SUMMARY:IDC WIN Workplace Solutions: Building Success Together: Leveraging Workplace Solutions to Grow\, Expand\, and Thrive
DESCRIPTION:CLICK HERE TO REGISTER\nIn today’s rapidly evolving benefits landscape\, the ability to adapt and grow is essential for financial advisors. Whether you’re just starting to explore group benefits or you’re already deeply embedded in the group market\, there are vast opportunities to expand your offerings\, streamline your processes\, and better serve your clients. Learn how other advisors are utilizing our services to take a holistic approach to their clients and leveraging our team to ensure their clients are happy and healthy. \nNO CE CREDITS
URL:https://idcwinbig.ca/event/idc-win-workplace-solutions-building-success-together-leveraging-workplace-solutions-to-grow-expand-and-thrive/
CATEGORIES:Webinar
END:VEVENT
BEGIN:VEVENT
DTSTART;TZID=America/Toronto:20250218T130000
DTEND;TZID=America/Toronto:20250218T140000
DTSTAMP:20260422T114112
CREATED:20250204T212256Z
LAST-MODIFIED:20250204T212256Z
UID:7447-1739883600-1739887200@idcwinbig.ca
SUMMARY:IDC WIN Compliance - The Reason Why Letter Leads To All Things Good
DESCRIPTION:CLICK HERE TO REGISTER\nJoin us for an insightful webinar on the “Reason Why Letter\,” hosted by Eric Wachtel and Don Hart. In this session\, we’ll dive into the significance of clear\, transparent communication in compliance practices. You’ll learn how crafting a well-structured “Reason Why Letter” and discovery agreement can: \n\nImprove decision-making\nBoost sales\nCreate cross-selling opportunities\nReduce risks\nEnsure accountability\n\nDon’t miss this valuable opportunity to enhance your understanding of effective compliance communication strategies! \nCE Credit pending approval
URL:https://idcwinbig.ca/event/idc-win-compliance-the-reason-why-letter-leads-to-all-things-good/
CATEGORIES:Webinar
END:VEVENT
BEGIN:VEVENT
DTSTART;TZID=America/Toronto:20250220T130000
DTEND;TZID=America/Toronto:20250220T140000
DTSTAMP:20260422T114112
CREATED:20250204T212617Z
LAST-MODIFIED:20250204T212617Z
UID:7449-1740056400-1740060000@idcwinbig.ca
SUMMARY:Desjardins: Generational Legacy Plan - Nurturing Dreams\, Building Wealth
DESCRIPTION:CLICK HERE TO REGISTER\nJoin us for Generational Legacy Plan: Nurturing Dreams\, Building Wealth\, presented by Petra Ross\, Regional Sales Director for Desjardins. Petra will delve into the critical aspects of wealth transfer planning and its profound impact on securing a prosperous future for your family. This comprehensive session will cover essential topics\, including the importance of wealth transfer planning\, effective strategies\, the benefits of the concept\, and real-life case studies. \nThis webinar is ideal if you have clients who are interested in preserving their wealth and looking to create a legacy for future generations. \n 1 CE credit
URL:https://idcwinbig.ca/event/desjardins-generational-legacy-plan-nurturing-dreams-building-wealth/
CATEGORIES:Webinar
END:VEVENT
BEGIN:VEVENT
DTSTART;TZID=America/Toronto:20250225T140000
DTEND;TZID=America/Toronto:20250225T150000
DTSTAMP:20260422T114112
CREATED:20250220T213259Z
LAST-MODIFIED:20250220T213259Z
UID:7462-1740492000-1740495600@idcwinbig.ca
SUMMARY:Empire Life - Beyond the Transaction: Life Insurance in Business Succession Planning
DESCRIPTION:CLICK HERE TO REGISTER\nElevate your expertise in business succession planning with our ‘Beyond the Transaction’ presentation. Through case studies\, gain the knowledge and tools to help identify optimal solutions\, navigate potential pitfalls\, and secure lasting legacies for your clients. Solidifying your role as a trusted advisor. \nJoin the webinar: \nTuesday\, February 25\, 2025\, from 2:00 pm to 3:00 pm ET\nThis webinar is also available in French on February 26\, 2025\, from 10:00 am to 11:00 am ET. \nTHIS WEBINAR IS NOT IDC WIN HOSTED \nCE credits: Pending.\nTo receive their CE credit\, attendees of this event will be required to attend the entire session and pass the quiz after viewing the webinar.
URL:https://idcwinbig.ca/event/empire-life-beyond-the-transaction-life-insurance-in-business-succession-planning/
CATEGORIES:Webinar
END:VEVENT
BEGIN:VEVENT
DTSTART;TZID=America/Toronto:20250226T130000
DTEND;TZID=America/Toronto:20250226T140000
DTSTAMP:20260422T114112
CREATED:20250207T191005Z
LAST-MODIFIED:20250207T191005Z
UID:7452-1740574800-1740578400@idcwinbig.ca
SUMMARY:IDC WIN Workplace Solutions and RBC Insurance: Individual Disability Compliments to Traditional Group Insurance
DESCRIPTION:           \nCLICK HERE TO REGISTER\nCanadian employers today are faced with unique challenges and changing employee needs! RBC Insurance strives to stay ahead of the curve with our innovative approach to integrating individual and group solutions in a way that more adequately addresses the individualized needs of key employees. \nThis session will review the opportunities for supplementing traditional group insurance with tailored individual products that address important gaps for our executive clients! We will learn about unique approaches that offer funding flexibility and employer cost stability these opportunities and take the first step in growing your business in this lucrative market. \n1 CE credit (except QC) (You must stay on for the full presentation to receive your credit)
URL:https://idcwinbig.ca/event/idc-win-workplace-solutions-and-rbc-insurance-individual-disability-compliments-to-traditional-group-insurance/
CATEGORIES:Webinar
END:VEVENT
END:VCALENDAR