BEGIN:VCALENDAR
VERSION:2.0
PRODID:-//IDC WIN BIG | Business Innovation and Growth - ECPv5.7.1//NONSGML v1.0//EN
CALSCALE:GREGORIAN
METHOD:PUBLISH
X-WR-CALNAME:IDC WIN BIG | Business Innovation and Growth
X-ORIGINAL-URL:https://idcwinbig.ca
X-WR-CALDESC:Events for IDC WIN BIG | Business Innovation and Growth
BEGIN:VTIMEZONE
TZID:America/Toronto
BEGIN:DAYLIGHT
TZOFFSETFROM:-0500
TZOFFSETTO:-0400
TZNAME:EDT
DTSTART:20250309T070000
END:DAYLIGHT
BEGIN:STANDARD
TZOFFSETFROM:-0400
TZOFFSETTO:-0500
TZNAME:EST
DTSTART:20251102T060000
END:STANDARD
END:VTIMEZONE
BEGIN:VEVENT
DTSTART;TZID=America/Toronto:20250507T130000
DTEND;TZID=America/Toronto:20250507T140000
DTSTAMP:20260422T071408
CREATED:20250415T205559Z
LAST-MODIFIED:20250415T205559Z
UID:7573-1746622800-1746626400@idcwinbig.ca
SUMMARY:CPP Foresters - The Estate Enhancement Option
DESCRIPTION:CLICK HERE TO REGISTER\nPresenter:  Zainab Sheikh Regional Vice President\, Ontario \nCanada is going to experience the largest wave of inter-generational transfers over the next 10 years. Life insurance may provide affordable solutions that can contribute to tax-efficient estate planning. This presentation is designed to show advisors the essentials of proper estate planning and how life insurance can play a key role. First\, it outlines current economic and social trends in Canada. Second\, key features of Foresters Advantage Plus Par. Whole Life are highlighted to show how it is uniquely positioned to help meet the needs of this growing market. Various case studies illustrate the how Advantage Plus can be integrated into a comprehensive estate plan. \nTopics covered in the presentation include: \n• The current situation\n• The basics of estate planning\n• Product features for Foresters Advantage Plus\n• Competitive analysis\n• First case study\n• Advantage Plus built-in features\n• Optional riders\n• Second case study \n1 CE credit (You must stay on for the full presentation to receive your credit) \n**Ensure you enter your full first and last name into the registration form as this is what will be shown on your CE certificate.**
URL:https://idcwinbig.ca/event/cpp-foresters-the-estate-enhancement-option/
CATEGORIES:Webinar
END:VEVENT
BEGIN:VEVENT
DTSTART;TZID=America/Toronto:20250515T130000
DTEND;TZID=America/Toronto:20250515T140000
DTSTAMP:20260422T071408
CREATED:20250421T211216Z
LAST-MODIFIED:20250421T211216Z
UID:7587-1747314000-1747317600@idcwinbig.ca
SUMMARY:IDC WIN Workplace Solutions: RBC - Beyond Basics\, Rethinking group benefits for a new era
DESCRIPTION:CLICK HERE TO REGISTER\nAs the needs of today’s workforce evolve\, the demands for innovative solutions and forward-thinking leadership grows. \nThis webinar\, RBC will dive into: \n\nThe history of insurance and how benefits have evolved\nChallenges the Canadian healthcare system is currently facing\nCurrent trends and employee preferences in drug management\nOpportunities for the future\n\n1 CE credit (You must sign in on time and stay logged on for the full presentation to receive your credit) \n**Ensure you enter your full first and last name into the registration form as this is what will be shown on your CE certificate.** \n 
URL:https://idcwinbig.ca/event/idc-win-workplace-solutions-rbc-beyond-basics-rethinking-group-benefits-for-a-new-era/
CATEGORIES:Webinar
END:VEVENT
BEGIN:VEVENT
DTSTART;TZID=America/Toronto:20250520T130000
DTEND;TZID=America/Toronto:20250520T140000
DTSTAMP:20260422T071408
CREATED:20250423T175927Z
LAST-MODIFIED:20250423T193603Z
UID:7595-1747746000-1747749600@idcwinbig.ca
SUMMARY:Tammy Buss - Power of three in family business
DESCRIPTION:CLICK HERE TO REGISTER\nJoin us for an insightful seminar led by Tammy Buss\, founder of BlueRoots\, that explores the three-circle model for family business advisors. This interactive seminar delves into the dynamics and complexities that often come with family-run enterprises. You’ll learn how to create alignment\, enhance business resilience and improve decision-making. \nWhen: Tuesday\, May 20\, 2025 \nTime: 1:00 p.m.-2:00 p.m ET / 10:00 a.m.-11:00 a.m. PT \nDon’t miss this opportunity to gain valuable perspectives and help lead your clients to multi-generational success. \n1 CE credit (You must stay on for the full presentation to receive your credit) \n**Ensure you enter your full first and last name into the registration form as this is what will be shown on your CE certificate.**
URL:https://idcwinbig.ca/event/tammy-buss-power-of-three-in-family-business/
CATEGORIES:Webinar
END:VEVENT
BEGIN:VEVENT
DTSTART;TZID=America/Toronto:20250527T130000
DTEND;TZID=America/Toronto:20250527T140000
DTSTAMP:20260422T071408
CREATED:20250421T211714Z
LAST-MODIFIED:20250429T201835Z
UID:7589-1748350800-1748354400@idcwinbig.ca
SUMMARY:IDC WIN Workplace Solutions: - Equitable - EZBenefits: A better benefits experience for small business
DESCRIPTION:CLICK HERE TO REGISTER\nEquitable’s EZBenefits™ solution delivers everything a small business wants in a group benefits plan. It’s affordable\, sustainable\, and easy for plan members to use and administrators to manage. \nLearn how EZBenefits can help support your small-business clients – companies with two to 25 employees. Join us for this virtual session where we’ll explore this unique group benefits solution and its features: \n\nPlan design options for various needs and budgets\nEmbedded health and wellness services\nBuilt-in HR support services\n‘EZ’ process for rapid quotes\, hassle-free plan implementation and renewals\nDedicated advisor concierge service\n\n1 CE credit Under Review (You must sign in on time and stay logged on for the full presentation to receive your credit) \n**Ensure you enter your full first and last name into the registration form as this is what will be shown on your CE certificate.**
URL:https://idcwinbig.ca/event/idc-win-workplace-solutions-equitable-ezbenefits-a-better-benefits-experience-for-small-business/
CATEGORIES:Webinar
END:VEVENT
BEGIN:VEVENT
DTSTART;TZID=America/Toronto:20250529T130000
DTEND;TZID=America/Toronto:20250529T140000
DTSTAMP:20260422T071408
CREATED:20250513T201958Z
LAST-MODIFIED:20250513T202036Z
UID:7614-1748523600-1748527200@idcwinbig.ca
SUMMARY:Edge Benefits: Small Business Grouped Benefits
DESCRIPTION:CLICK HERE TO REGISTER\nAn overview of how our Health and Dental SBB solution has changed the way Small Business owners have purchased benefits for their employees. Please join us to learn about all the unique advantages we offer with our SBB plan options. A great door opener to generate additional leads for your core products (Life\, Investments\, etc.). \n1 CE credit (You must stay on for the full presentation to receive your credit) \n**Ensure you enter your full first and last name into the registration form as this is what will be shown on your CE certificate.**
URL:https://idcwinbig.ca/event/edge-benefits-small-business-grouped-benefits/
CATEGORIES:Webinar
END:VEVENT
END:VCALENDAR