BEGIN:VCALENDAR
VERSION:2.0
PRODID:-//IDC WIN BIG | Business Innovation and Growth - ECPv5.7.1//NONSGML v1.0//EN
CALSCALE:GREGORIAN
METHOD:PUBLISH
X-WR-CALNAME:IDC WIN BIG | Business Innovation and Growth
X-ORIGINAL-URL:https://idcwinbig.ca
X-WR-CALDESC:Events for IDC WIN BIG | Business Innovation and Growth
BEGIN:VTIMEZONE
TZID:America/Toronto
BEGIN:DAYLIGHT
TZOFFSETFROM:-0500
TZOFFSETTO:-0400
TZNAME:EDT
DTSTART:20250309T070000
END:DAYLIGHT
BEGIN:STANDARD
TZOFFSETFROM:-0400
TZOFFSETTO:-0500
TZNAME:EST
DTSTART:20251102T060000
END:STANDARD
END:VTIMEZONE
BEGIN:VEVENT
DTSTART;TZID=America/Toronto:20250603T130000
DTEND;TZID=America/Toronto:20250603T140000
DTSTAMP:20260422T055104
CREATED:20250513T202318Z
LAST-MODIFIED:20250513T202318Z
UID:7617-1748955600-1748959200@idcwinbig.ca
SUMMARY:Empire Life: Kids Start Strategy - Why Life Insurance for Kids?
DESCRIPTION:CLICK HERE TO REGISTER\nAnother perspective of Children’s life insurance as another Asset Class. \nWhen most people think of life insurance\, they think of income replacement for adults. But there’s another perspective worth considering: Children’s life insurance as an alternative asset class. This strategic approach—often overlooked—can serve as a powerful financial tool. \nPermanent life insurance for kids\, when structured properly\, offers lifelong coverage\, builds cash value over time\, and can provide tax-advantaged growth. It acts as a financial foundation that parents or grandparents can use to teach the next generation about saving\, long-term planning\, and legacy-building. \nAs part of a diversified portfolio\, children’s life insurance can be a unique\, stable asset that grows over decades. \n1 CE credit (You must stay on for the full presentation to receive your credit) \n**Ensure you enter your full first and last name into the registration form as this is what will be shown on your CE certificate.**
URL:https://idcwinbig.ca/event/empire-life-kids-start-strategy-why-life-insurance-for-kids/
CATEGORIES:Webinar
END:VEVENT
BEGIN:VEVENT
DTSTART;TZID=America/Toronto:20250605T130000
DTEND;TZID=America/Toronto:20250605T140000
DTSTAMP:20260422T055104
CREATED:20250516T185325Z
LAST-MODIFIED:20250516T185325Z
UID:7625-1749128400-1749132000@idcwinbig.ca
SUMMARY:Desjardins: PAR Additional Deposit Option Deconstructed: A Generational Legacy Plan
DESCRIPTION:CLICK HERE TO REGISTER\nGiving while Living – Keeping it in the family but still maintaining control. We will cover strategies to build generational wealth and fast-track financial legacies using Desjardins PAR with our additional deposit option. \n1 CE credit (PENDING APPROVAL) (You must stay on for the full presentation to receive your credit) \n**Ensure you enter your full first and last name into the registration form as this is what will be shown on your CE certificate.**
URL:https://idcwinbig.ca/event/desjardins-par-additional-deposit-option-deconstructed-a-generational-legacy-plan/
CATEGORIES:Webinar
END:VEVENT
BEGIN:VEVENT
DTSTART;TZID=America/Toronto:20250610T130000
DTEND;TZID=America/Toronto:20250610T160000
DTSTAMP:20260422T055104
CREATED:20250513T200748Z
LAST-MODIFIED:20250513T201310Z
UID:7607-1749560400-1749571200@idcwinbig.ca
SUMMARY:Technology Day 2025: From data to decisions
DESCRIPTION:CLICK HERE TO REGISTER\nIn the technology-enabled workplace data is playing an increasingly important role. \nJoin us online for Technology Day 2025\, as we learn from an expert panel how you can use data to gain insights\, inform conversations and empower decisions that drive business growth. \nNO CE CREDITS  – This session is not accredited for CE credits
URL:https://idcwinbig.ca/event/technology-day-2025/
CATEGORIES:Webinar
END:VEVENT
BEGIN:VEVENT
DTSTART;TZID=America/Toronto:20250611T110000
DTEND;TZID=America/Toronto:20250611T160000
DTSTAMP:20260422T055104
CREATED:20250513T202938Z
LAST-MODIFIED:20250516T185549Z
UID:7619-1749639600-1749657600@idcwinbig.ca
SUMMARY:Workplace Solutions - Symposium 2025: Humanizing benefits: Real people\, real issues
DESCRIPTION:CLICK HERE TO REGISTER\nEmployee needs are more complex than ever before. To meet these dynamic requirements\, effective health benefits plans must go beyond traditional group insurance solutions. \nJoin us for Symposium 2025\, as we take a 360-degree approach to workplace well-being. In this forward-thinking session\, we will examine real challenges facing real people\, and how we can better align benefit solutions to meet diverse client needs. \nKeynotes: \nMichael Landsberg \nPresident /CEO \nWhat Happens Before Help Happens. \nReal change doesn’t always come from more resources—it comes from real connection.\nThis talk shows how stories and emotion can guide people to the help they already have. \nJoe Roberts \nAuthor\, Humanitarian \nFrom skid row to CEO: Building resilience one step at a time. \nIn this empowering session\, Joe discusses how to build the resiliency required to face adversity and succeed. \n 
URL:https://idcwinbig.ca/event/workplace-solutions-humanizing-benefits-real-people-real-issues/
CATEGORIES:Webinar
END:VEVENT
BEGIN:VEVENT
DTSTART;TZID=America/Toronto:20250618T130000
DTEND;TZID=America/Toronto:20250618T150000
DTSTAMP:20260422T055104
CREATED:20250618T194034Z
LAST-MODIFIED:20250618T194125Z
UID:7664-1750251600-1750258800@idcwinbig.ca
SUMMARY:IDC WIN Advanced Tax and Estate Planning
DESCRIPTION:CLICK HERE TO REGISTER\nHave clients with complex tax and estate planning needs? Join us for our online session – Tax and estate planning: Exploring advanced sales opportunities. Learn from IDC WIN and industry experts as they delve into topics like navigating the years after closing a large life insurance case\, farm estate planning and the latest developments in tax policies. This insightful session can help you better understand how to maximize future opportunities while providing long-term value for clients. \n1 CE credit (PENDING) (You must stay on for the full presentation to receive your credit) \n**Ensure you enter your full first and last name into the registration form as this is what will be shown on your CE certificate.**
URL:https://idcwinbig.ca/event/idc-win-advanced-tax-and-estate-planning/
CATEGORIES:Webinar
END:VEVENT
BEGIN:VEVENT
DTSTART;TZID=America/Toronto:20250624T130000
DTEND;TZID=America/Toronto:20250624T140000
DTSTAMP:20260422T055104
CREATED:20250618T194713Z
LAST-MODIFIED:20250618T194713Z
UID:7667-1750770000-1750773600@idcwinbig.ca
SUMMARY:ivari - Simply Guaranteed Life and Simply Simplified Life - Our new tiered product suite
DESCRIPTION:CLICK HERE TO REGISTER\nWe’re excited to invite you to an exclusive webinar introducing SIMPLY\, ivari’s new suite of simplified and guaranteed life insurance products. \nJoin us to explore how these innovative solutions can help you better serve clients who want straightforward\, accessible coverage—with no medical underwriting required. \nWhat you’ll learn: \n\nKey features of Simply Simplified and Simply Guaranteed products\nBuilt-in benefits and eligibility criteria\nHow Maple virtual healthcare adds value for your clients\nIdeal client profiles and sales opportunities\n\nWhether you’re looking to expand your offerings or simplify your sales conversations\, this session will give you the tools and insights to succeed. \n1 CE credit (PENDING APPROVAL) (You must stay on for the full presentation to receive your credit) \n**Ensure you enter your full first and last name into the registration form as this is what will be shown on your CE certificate.**
URL:https://idcwinbig.ca/event/ivari-simply-guaranteed-life-and-simply-simplified-life-our-new-tiered-product-suite/
CATEGORIES:Webinar
END:VEVENT
END:VCALENDAR